BEGIN:VCALENDAR
PRODID:-//hacksw/handcal//NONSGML v1.0//EN
VERSION:2.0
METHOD:PUBLISH
BEGIN:VEVENT
DTSTART:20260512T230000Z
DTEND:20260513T010000Z
LOCATION:
UID:2943320260512T230000ZDEPC Emerging Professionals Event
DTSTAMP:20260420T080251Z
DESCRIPTION:\n\n \nDEPC Emerging Professionals\n \nNetworking Bingo\n\n\n \n(food and drink tickets will be provided)\n\n\n \nEmerging professionals are considered to be age 40 and under (or less than 5 years in their respective discipline).\n \n \n \nMay 12, 6 pm – 8 pm\n\n\n \nGolightly Club at the Swexan, 2575 McKinnon Street (Dallas)\n\n\n \nCost:  Complimentary\n\n\n \nRegistration Deadline: May 8, NOON\n\n\n \n \n \nRSVP Below\n \n \n \n \n
SUMMARY:DEPC Emerging Professionals Event - Dallas Estate Planning Council 
PRIORITY:3
BEGIN:VALARM
TRIGGER:PT18H
ACTION:DISPLAY
DESCRIPTION:Reminder
END:VALARM
END:VEVENT
END:VCALENDAR