BEGIN:VCALENDAR
PRODID:-//hacksw/handcal//NONSGML v1.0//EN
VERSION:2.0
METHOD:PUBLISH
BEGIN:VEVENT
DTSTART:20170403T220000Z
DTEND:20170404T030000Z
LOCATION:Globe Life Park in Arlington 
UID:1416920170403T220000ZFPA DFW & DEPC Texas Rangers Opening Day Ballpark Event
DTSTAMP:20260421T154658Z
DESCRIPTION:\n\n \nFPA DFW & DEPC Texas Rangers Opening Day Ballpark Event\n  \n \n   \nREGISTER NOW!\n   \nWhen:\n   \nMonday, April 3, 2017\n 5:00 PM\n   \nWhere:\n   \nGlobe Life Park in Arlington \n Hyundai Club\n 1000 Ballpark Way\n Arlington 76011\n United States\n   \nContact:\n   \nMelisa Hall\nexecdir@fpadfw.org\n 972-747-0407\n  \nFPA Dallas/Fort Worth & Dallas Estate Planning Council \n Texas Rangers Opening Day Ballpark Event! Monday, April 3, 2017\n \nNetworking in the Hyundai Suite begins at 5:00 pm - Opening pitch at 6:05 pm\n \nThis event is open to FPA and DEPC members only\n \n \n \n\n \n \n \nTexas Rangers vs Cleveland Indians (2016 American League Champions)\n\nOPENING DAY 2017!\n \n\nSpace is Very Limited....SIGN UP NOW\n \n \n \nThe Financial Planning Association of DFW and the Dallas Estate Planning Council are pleased to invite you to attend the 16th Annual Texas Rangers Opening Day event.  TICKETS ARE $120 PER PERSON AND ARE OPEN TO FPA & DEPC MEMBERS ONLY. Tickets are extremely limited and this event will sell out quickly.  Once the event is sold out a waiting list will be started.\n \n \n \nTHE PRICE of ADMISSION INCLUDES\n \nOne ticket to the Texas Rangers vs Cleveland Indians on Opening Day in the exclusive \nHyundai Club Suite\n \nUnlimited dinner buffet, snacks, beverages, beer and wine\n \nAn evening of fun and networking with your FPA & DEPC friends and colleagues\n \n \n \n IMPORTANT DETAILS\n \nParking @ Globe Life Stadium is not included with your ticket\n \nAll registrations & ticket sales must be made through the FPA DFW website\n \nThis event will sell out and a wait list will be started\n \n \n \n CANCELLATION POLICY\n \nNo refunds will be issued after MARCH 30 for any reason\nRefund requests prior to MARCH 30 will be honored, minus a $20 administrative fee\nLost tickets cannot be replaced or refunded\n \n \n \n AGENDA\n \n \n  5:00 PM  Check in & networking with friends and colleagues in the Hyundai Suite!  6:05 PM  Opening pitch -- Play ball!!!  GO RANGERS!!! \n \n \n* Note the later start times from previous years due to the later game start time\n \n** There will be no CE speaker for 2017\n \n \n \nJoin FPA & DEPC on Monday, April 3 for an exciting opportunity to see the Texas Rangers on opening day! This event has a limited number of tickets will sell out quickly and space is very limited so be sure to RSVP early. Once the event sells out a waiting list will be started on a first come first serve basis. We are once again returning to the new luxury [Hyundai Club Suite ](http://texas.rangers.mlb.com/tex/ticketing/batterseye.jsp)for a great evening of networking, a dinner buffet and Texas Rangers baseball! Due to space limitations, this event is limited to  FPA & DEPC members only at this time.\n \n \n \nQuestions:  Contact Melisa Hall @ execdir@fpadfw.org\n \n \n \nREGISTER:\n \nhttp://www.fpadfw.org/events/EventDetails.aspx?id=899512&group=\n \nOnline registration is available until: 3/30/2017 \n \n\n \n\n \n\n
SUMMARY:FPA DFW & DEPC Texas Rangers Opening Day Ballpark Event - Dallas Estate Planning Council 
PRIORITY:3
BEGIN:VALARM
TRIGGER:PT18H
ACTION:DISPLAY
DESCRIPTION:Reminder
END:VALARM
END:VEVENT
END:VCALENDAR